BEGIN:VCALENDAR
VERSION:2.0
PRODID:-//wp-events-plugin.com//7.2.3.1//EN
TZID:Europe/Berlin
X-WR-TIMEZONE:Europe/Berlin
BEGIN:VEVENT
UID:7@kelter-grafenberg.de
DTSTART;TZID=Europe/Berlin:20240430T200000
DTEND;TZID=Europe/Berlin:20240430T220000
DTSTAMP:20240511T151136Z
URL:https://kelter-grafenberg.de/events/kino-in-der-kelter-4/
SUMMARY:Kino in der Kelter
DESCRIPTION:Anatomie eines Falls\nAbendvorstellung 20 Uhr/ 5 Euro FSK: 12\n
 \n
ATTACH;FMTTYPE=image/jpeg:https://kelter-grafenberg.de/wp-content/uploads/
 2024/05/anatomie_eines_falls-1.jpg
END:VEVENT
BEGIN:VTIMEZONE
TZID:Europe/Berlin
X-LIC-LOCATION:Europe/Berlin
BEGIN:DAYLIGHT
DTSTART:20240331T030000
TZOFFSETFROM:+0100
TZOFFSETTO:+0200
TZNAME:CEST
END:DAYLIGHT
END:VTIMEZONE
END:VCALENDAR