BEGIN:VCALENDAR
VERSION:2.0
PRODID:-//wp-events-plugin.com//7.2.3.1//EN
TZID:Europe/Berlin
X-WR-TIMEZONE:Europe/Berlin
BEGIN:VEVENT
UID:45@kelter-grafenberg.de
DTSTART;TZID=Europe/Berlin:20250918T200000
DTEND;TZID=Europe/Berlin:20250918T223000
DTSTAMP:20250815T181341Z
URL:https://kelter-grafenberg.de/events/kino-in-der-kelter-22/
SUMMARY:Kino in der Kelter
DESCRIPTION:Könige des Sommers\nAbendvorstellung 20:00 Uhr/ 6 Euro\nFrankr
 eich 2024 / 90 Min. / FSK: 12\n\n
ATTACH;FMTTYPE=image/jpeg:https://kelter-grafenberg.de/wp-content/uploads/
 2025/08/koenige-des-sommers.jpg
END:VEVENT
BEGIN:VTIMEZONE
TZID:Europe/Berlin
X-LIC-LOCATION:Europe/Berlin
BEGIN:DAYLIGHT
DTSTART:20250330T030000
TZOFFSETFROM:+0100
TZOFFSETTO:+0200
TZNAME:CEST
END:DAYLIGHT
END:VTIMEZONE
END:VCALENDAR